Workbook

Sheet 交付申請書
AX1: 年 | BD1: 月 | BJ1: 日
B2: 米沢市長 あて
V3: 申請者
V4: 住所 | AI4: 〒 | AO4: －
V6: 氏名
V7: 電話番号
V8: メールアドレス
B10: 令和８年度米沢市脱炭素先行地域づくり事業補助金交付申請書
B12: 標記の件について、下記の通り申請いたします。
B15: 記
B17: １．補助対象設備を導入する建物の概要（必須）
B18: 1 | D18: 所在地
B19: 2 | D19: 所有者名
B20: 3 | D20: 建築区分(該当の数字に〇) | U20: 1 | X20: 新築住宅 | AG20: 2 | AJ20: 既存住宅 | AS20: 3 | AV20: その他( )
B22: ２．誓約書（必須）
B23: 米沢市脱炭素先行地域づくり事業補助金交付申請にあたり、下記事項について誓約します。
B25: （１）導入設備を法令、要綱等に適合して設置すること。
B26: （２）要綱第３条第２項各号のいずれかに該当しないこと。
B27: （３）建築物の電力使用量データの提出等、本市が実施する調査に協力すること。
B28: （４）ECHONET Lite規格に準拠した設備を導入し、導入機器を調整力として活用しエネ ルギーマネジメントを行うこと。
B30: （５）設備を導入する建築物の使用電力を、再エネ１００パーセント電力にし、少なく とも令和１２年度末まで継続すること。
B32: （６）設備導入にあたって、複数見積等により価格比較を行っていること。 （見積書の提出は１社分のみとなりますが、価格等の十分な検討を行ってください。）
AX34: 年 | BD34: 月 | BJ34: 日
AD35: 申請者 | AK35: 住所
B36: （自署又は押印） | AK36: 氏名
B38: ３．委任状（施工業者に委任する場合のみ）
B39: 私は、以下の者を代理人と定め、交付申請手続き等の権限を委任します。
B40: 代理人（受任者）
D41: 所在地
D42: 会社名及び代表者名
D43: 担当者名 | AI43: 電話番号
D44: メールアドレス
AX45: 年 | BD45: 月 | BJ45: 日
W46: 申請者（委任者） | AK46: 住所
B47: （自署又は押印） | AK47: 氏名
B49: ４．事業計画書（必須）
B50: 既存住宅断熱改修
D51: 工事着工（予定）日 | AV51: 年 | BB51: 月 | BH51: 日
D52: 工事完了（予定）日 | AV52: 年 | BB52: 月 | BH52: 日
D53: 住宅種類 （集合住宅の場合は戸数も明記） | BC53: ( | BJ53: 戸)
...

Sheet 交付申請書（記入例）
C1: 【記入例】 | AS1: R8 | AX1: 年 | BA1: 6 | BD1: 月 | BG1: 1 | BJ1: 日
B2: 米沢市長 あて
V3: 申請者
V4: 住所 | AI4: 〒 | AK4: 992 | AO4: － | AQ4: 8501
AI5: 米沢市金池５丁目２－２５
V6: 氏名 | AI6: 米沢 太郎（※建物の所有者名）
V7: 電話番号 | AI7: ０２３８－２２－５１１１
V8: メールアドレス | AI8: kankyo-ka@city.yonezawa.lg.jp
B10: 令和８年度米沢市脱炭素先行地域づくり事業補助金交付申請書
B12: 標記の件について、下記の通り申請いたします。
B15: 記
B17: １．補助対象設備を導入する建物の概要（必須）
B18: 1 | D18: 所在地 | U18: 米沢市金池５丁目２－２５
B19: 2 | D19: 所有者名 | U19: 米沢 太郎
B20: 3 | D20: 建築区分(該当の数字に〇) | U20: 1 | X20: 新築住宅 | AG20: ② | AJ20: 既存住宅 | AS20: 3 | AV20: その他( )
B22: ２．誓約書（必須）
B23: 米沢市脱炭素先行地域づくり事業補助金交付申請にあたり、下記事項について誓約します。
B25: （１）導入設備を法令、要綱等に適合して設置すること。
B26: （２）要綱第３条第２項各号のいずれかに該当しないこと。
B27: （３）建築物の電力使用量データの提出等、本市が実施する調査に協力すること。
B28: （４）ECHONET Lite規格に準拠した設備を導入し、導入機器を調整力として活用しエネ ルギーマネジメントを行うこと。
B30: （５）設備を導入する建築物の使用電力を、再エネ１００パーセント電力にし、少なく とも令和１２年度末まで継続すること。
B32: （６）設備導入にあたって、複数見積等により価格比較を行っていること。 （見積書の提出は１社分のみとなりますが、価格等の十分な検討を行ってください。）
AS34: R8 | AX34: 年 | BA34: 6 | BD34: 月 | BG34: 1 | BJ34: 日
AD35: 申請者 | AK35: 住所 | AP35: 米沢市金池5丁目2-25
B36: （自署又は押印） | AK36: 氏名 | AP36: 忘れず記入
B38: ３．委任状（施工業者に委任する場合のみ）
B39: 私は、以下の者を代理人と定め、交付申請手続き等の権限を委任します。
B40: 代理人（受任者）
D41: 所在地 | U41: 米沢市金池５丁目２－２５
D42: 会社名及び代表者名 | U42: ㈲ダツタン電機 代表取締役 脱炭素 次郎
D43: 担当者名 | M43: 脱炭素 三郎 | AI43: 電話番号 | AR43: 0238-22-5112
D44: メールアドレス | U44: kankyo-t@city.yonezawa.lg.jp
AS45: R8 | AX45: 年 | BA45: 6 | BD45: 月 | BG45: 1 | BJ45: 日
W46: 申請者（委任者） | AK46: 住所 | AP46: 米沢市金池５丁目２－２５
B47: （自署又は押印） | AK47: 氏名 | AP47: 該当する場合は忘れず記入
B49: ４．事業計画書（必須）
B50: 既存住宅断熱改修
D51: 工事着工（予定）日 | AQ51: R8 | AV51: 年 | AY51: 6 | BB51: 月 | BE51: 21 | BH51: 日
D52: 工事完了（予定）日 | AQ52: R8 | AV52: 年 | AY52: 7 | BB52: 月 | BE52: 31 | BH52: 日
...

Sheet Sheet1
E1: 戸建住宅
B2: 新築住宅 | C2: ガラス | D2: 有り | E2: 集合住宅 | I2: R8 | J2: 1 | K2: 1
B3: 既存住宅 | C3: 窓 | D3: 無し | I3: R9 | J3: 2 | K3: 2
B4: その他 | C4: 断熱材 | J4: 3 | K4: 3
C5: 玄関ドア | J5: 4 | K5: 4
J6: 5 | K6: 5
D7: 交付申請書 | E7: 戸建住宅の場合 | J7: 6 | K7: 6
E8: 玄関ドア有り | F8: =IF(ROUNDDOWN(交付申請書!AT78,-3)>50000,50000,ROUNDDOWN(交付申請書!AT78,-3)) -> 0 | G8: =IF(ROUNDDOWN(交付申請書!AT79,-3)>1200000-F8,1200000-F8,ROUNDDOWN(交付申請書!AT79,-3)) -> 0 | H8: =IF(交付申請書!AT76=0,F9,F8+G8) -> 0 | J8: 7 | K8: 7
E9: 玄関ドア無し | F9: =IF(ROUNDDOWN(交付申請書!AT79,-3)>1200000,1200000,ROUNDDOWN(交付申請書!AT79,-3)) -> 0 | J9: 8 | K9: 8
E10: 集合住宅の場合 | G10: =IF(交付申請書!AT76>0,IF(ROUNDDOWN(交付申請書!AT78+交付申請書!AT79,-3)>200000,200000,ROUNDDOWN(交付申請書!AT78+交付申請書!AT79,-3)),IF(ROUNDDOWN(交付申請書!AT78+交付申請書!AT79,-3)>150000,150000,ROUNDDOWN(交付申請書!AT78+交付申請書!AT79,-3))) -> 0 | J10: 9 | K10: 9
J11: 10 | K11: 10
J12: 11 | K12: 11
D13: 交付申請書（記入例） | E13: 戸建住宅の場合 | J13: 12 | K13: 12
E14: 玄関ドア有り | F14: =IF(ROUNDDOWN('交付申請書（記入例）'!AT78,-3)>50000,50000,ROUNDDOWN('交付申請書（記入例）'!AT78,-3)) -> 50000 | G14: =IF(ROUNDDOWN('交付申請書（記入例）'!AT79,-3)>1200000-F14,1200000-F14,ROUNDDOWN('交付申請書（記入例）'!AT79,-3)) -> 1150000 | H14: =IF('交付申請書（記入例）'!AT76=0,F15,F14+G14) -> 1200000 | K14: 13
E15: 玄関ドア無し | F15: =IF(ROUNDDOWN('交付申請書（記入例）'!AT79,-3)>1200000,1200000,ROUNDDOWN('交付申請書（記入例）'!AT79,-3)) -> 1200000 | K15: 14
E16: 集合住宅の場合 | G16: =IF('交付申請書（記入例）'!AT76>0,IF(ROUNDDOWN('交付申請書（記入例）'!AT78+'交付申請書（記入例）'!AT79,-3)>200000,200000,ROUNDDOWN('交付申請書（記入例）'!AT78+'交付申請書（記入例）'!AT79,-3)),IF(ROUNDDOWN('交付申請書（記入例）'!AT78+'交付申請書（記入例）'!AT79,-3)>150000,150000,ROUNDDOWN('交付申請書（記入例）'!AT78+'交付申請書（記入例）'!AT79,-3))) -> 200000 | K16: 15
K17: 16
K18: 17
K19: 18
K20: 19
K21: 20
K22: 21
K23: 22
K24: 23
K25: 24
K26: 25
K27: 26
K28: 27
... K32: 31
J73: 戸建住宅の場合
J74: 玄関ドア有り | K74: =IF(ROUNDDOWN(交付申請書!AT78,-3)>50000,50000,ROUNDDOWN(交付申請書!AT78,-3)) -> 0 | L74: =IF(ROUNDDOWN(交付申請書!AT79,-3)>1200000-K74,1200000-K74,ROUNDDOWN(交付申請書!AT79,-3)) -> 0
J75: 玄関ドア無し | K75: =IF(ROUNDDOWN(交付申請書!AT79,-3)>1200000,1200000,ROUNDDOWN(交付申請書!AT79,-3)) -> 0
J76: 集合住宅の場合 | L76: =IF(交付申請書!AT76>0,IF(ROUNDDOWN(交付申請書!AT78+交付申請書!AT79,-3)>200000,200000,ROUNDDOWN(交付申請書!AT78+交付申請書!AT79,-3)),IF(ROUNDDOWN(交付申請書!AT78+交付申請書!AT79,-3)>150000,150000,ROUNDDOWN(交付申請書!AT78+交付申請書!AT79,-3))) -> 0
C78: =IF(交付申請書!AO53="戸建住宅",交付申請書!#REF!,K76) -> 0
